BEGIN:VCALENDAR
VERSION:2.0
PRODID:icalendar-ruby
CALSCALE:GREGORIAN
METHOD:PUBLISH
BEGIN:VEVENT
DTSTAMP:20260420T121006Z
UID:382-3997681@gcchurch.ca
DTSTART:20260425T020000Z
DTEND:20260425T043000Z
CLASS:PUBLIC
CREATED:20260416T101950
DESCRIPTION:
LAST-MODIFIED:20260416T101950
LOCATION:Motion Church
SUMMARY:CITYWIDE
URL;VALUE=URI:https://www.gcchurch.ca/events/citywide/2026-04-24
ATTACH;FILENAME=Untitled design-7.png;FMTTYPE=image/png:https://dq5pwpg1q8r
 u0.cloudfront.net/2026/04/16/17/19/28/eec88e48-e552-4314-9674-5089868289c7
 /Untitled%20design-7.png
END:VEVENT
END:VCALENDAR
