BEGIN:VCALENDAR
VERSION:2.0
PRODID:icalendar-ruby
CALSCALE:GREGORIAN
METHOD:PUBLISH
BEGIN:VEVENT
DTSTAMP:20260422T204913Z
UID:5-4069661@gcchurch.ca
DTSTART:20261018T160000Z
DTEND:20261018T173000Z
CLASS:PUBLIC
CREATED:20260422T121952
DESCRIPTION:9 AM Sunday Service
LAST-MODIFIED:20260422T121952
LOCATION:163 Oriole Rd\, Kamploops
SUMMARY:First Sunday Service
URL;VALUE=URI:https://www.gcchurch.ca/events/first-sunday-service/2026-10-1
 8
END:VEVENT
END:VCALENDAR
