BEGIN:VCALENDAR
VERSION:2.0
PRODID:icalendar-ruby
CALSCALE:GREGORIAN
METHOD:PUBLISH
BEGIN:VEVENT
DTSTAMP:20260422T224902Z
UID:5-4071664@gcchurch.ca
DTSTART:20261025T160000Z
DTEND:20261025T173000Z
CLASS:PUBLIC
CREATED:20260422T151419
DESCRIPTION:9 AM Sunday Service
LAST-MODIFIED:20260422T151419
LOCATION:163 Oriole Rd\, Kamploops
SUMMARY:First Sunday Service
URL;VALUE=URI:https://www.gcchurch.ca/events/first-sunday-service/2026-10-2
 5
END:VEVENT
END:VCALENDAR
