BEGIN:VCALENDAR
VERSION:2.0
PRODID:icalendar-ruby
CALSCALE:GREGORIAN
METHOD:PUBLISH
BEGIN:VEVENT
DTSTAMP:20260423T012047Z
UID:5-4073668@gcchurch.ca
DTSTART:20261101T170000Z
DTEND:20261101T183000Z
CLASS:PUBLIC
CREATED:20260422T180607
DESCRIPTION:9 AM Sunday Service
LAST-MODIFIED:20260422T180607
LOCATION:163 Oriole Rd\, Kamploops
SUMMARY:First Sunday Service
URL;VALUE=URI:https://www.gcchurch.ca/events/first-sunday-service/2026-11-0
 1
END:VEVENT
END:VCALENDAR
