BEGIN:VCALENDAR
VERSION:2.0
PRODID:icalendar-ruby
CALSCALE:GREGORIAN
METHOD:PUBLISH
BEGIN:VEVENT
DTSTAMP:20260423T103230Z
UID:361-4075509@gcchurch.ca
DTSTART:20261025T180000Z
DTEND:20261025T193000Z
CLASS:PUBLIC
CREATED:20260422T180612
DESCRIPTION:11 AM Sunday Service
LAST-MODIFIED:20260422T180612
LOCATION:163 Oriole Rd\, Kamloops
SUMMARY:Second Sunday Service
URL;VALUE=URI:https://www.gcchurch.ca/events/second-sunday-service/2026-10-
 25
END:VEVENT
END:VCALENDAR
