BEGIN:VCALENDAR
VERSION:2.0
PRODID:icalendar-ruby
CALSCALE:GREGORIAN
METHOD:PUBLISH
BEGIN:VEVENT
DTSTAMP:20260423T122903Z
UID:361-4077513@gcchurch.ca
DTSTART:20261101T190000Z
DTEND:20261101T203000Z
CLASS:PUBLIC
CREATED:20260423T033514
DESCRIPTION:11 AM Sunday Service
LAST-MODIFIED:20260423T033514
LOCATION:163 Oriole Rd\, Kamloops
SUMMARY:Second Sunday Service
URL;VALUE=URI:https://www.gcchurch.ca/events/second-sunday-service/2026-11-
 01
END:VEVENT
END:VCALENDAR
